BEGIN:VCALENDAR
VERSION:2.0
PRODID:-//Tukios.com/
BEGIN:VEVENT
UID:b7ed6ccc-52d0-4eb7-b368-f312a8aed08b@www.wisefuneralhome.com
DTSTAMP:20260422T160950Z
DTSTART:20260424T140000Z
DTEND:20260424T150000Z
SUMMARY:Graveside Service
DESCRIPTION:
URL:https://www.wisefuneralhome.com/obituaries/ervin-leon-coonrod
LOCATION:Willow Wild Cemetery 1220 West 7th Street  Bonham TX 75418
GEO:33.5796125;-96.1948041
END:VEVENT
END:VCALENDAR